
BEGIN:VCALENDAR
VERSION:2.0
PRODID:-//eventon.com NONSGML v1.0//EN
CALSCALE:GREGORIAN
METHOD:PUBLISH
BEGIN:VEVENT
UID:69e9d59fa2e8a
DTSTAMP:20260423T081735Z
DTSTART:20240331T220100Z
DTEND:20240401T215900Z
LOCATION:
SUMMARY:Ostermontag
DESCRIPTION:Ostermontag\nhttps://dorf-schevenhuette.de/events/ostermontag/
URL:https://dorf-schevenhuette.de/events/ostermontag/
END:VEVENT
END:VCALENDAR